BEGIN:VCALENDAR
VERSION:2.0
PRODID:-//AfD Landesverband Sachsen-Anhalt - ECPv6.15.20//NONSGML v1.0//EN
CALSCALE:GREGORIAN
METHOD:PUBLISH
X-ORIGINAL-URL:https://afd-lsa.de
X-WR-CALDESC:Veranstaltungen für AfD Landesverband Sachsen-Anhalt
REFRESH-INTERVAL;VALUE=DURATION:PT1H
X-Robots-Tag:noindex
X-PUBLISHED-TTL:PT1H
BEGIN:VTIMEZONE
TZID:Europe/Helsinki
BEGIN:DAYLIGHT
TZOFFSETFROM:+0200
TZOFFSETTO:+0300
TZNAME:EEST
DTSTART:20240331T010000
END:DAYLIGHT
BEGIN:STANDARD
TZOFFSETFROM:+0300
TZOFFSETTO:+0200
TZNAME:EET
DTSTART:20241027T010000
END:STANDARD
BEGIN:DAYLIGHT
TZOFFSETFROM:+0200
TZOFFSETTO:+0300
TZNAME:EEST
DTSTART:20250330T010000
END:DAYLIGHT
BEGIN:STANDARD
TZOFFSETFROM:+0300
TZOFFSETTO:+0200
TZNAME:EET
DTSTART:20251026T010000
END:STANDARD
BEGIN:DAYLIGHT
TZOFFSETFROM:+0200
TZOFFSETTO:+0300
TZNAME:EEST
DTSTART:20260329T010000
END:DAYLIGHT
BEGIN:STANDARD
TZOFFSETFROM:+0300
TZOFFSETTO:+0200
TZNAME:EET
DTSTART:20261025T010000
END:STANDARD
END:VTIMEZONE
BEGIN:VEVENT
DTSTART;TZID=Europe/Helsinki:20251022T090000
DTEND;TZID=Europe/Helsinki:20251022T120000
DTSTAMP:20260424T231624
CREATED:20251017T135240Z
LAST-MODIFIED:20251021T072446Z
UID:10000003-1761123600-1761134400@afd-lsa.de
SUMMARY:Infostand in Zeitz
DESCRIPTION:Infostand der AfD Burgenlandkreis mit Lothar Waehler\, Juliane Waehler und Dirk Jonas.
URL:https://afd-lsa.de/event/infostand-in-zeitz/
LOCATION:Zeitz\, Platz der Deutschen Einheit
END:VEVENT
BEGIN:VEVENT
DTSTART;TZID=Europe/Helsinki:20251022T173000
DTEND;TZID=Europe/Helsinki:20251022T200000
DTSTAMP:20260424T231624
CREATED:20251022T062542Z
LAST-MODIFIED:20251022T062542Z
UID:10000010-1761154200-1761163200@afd-lsa.de
SUMMARY:Bürgerabend in Derben
DESCRIPTION:Am Mittwoch\, den 22. Oktober 2025\, laden wir Sie herzlich zu unserem Bürgerabend ein.Der Einlass beginnt um 17:30 Uhr\, Veranstaltungsbeginn ist um 18:00 Uhr in der Hauptstraße 7\, 39317 Derben. \nNutzen Sie die Gelegenheit\, sich direkt mit uns über aktuelle politische Themen auszutauschen\, Fragen zu stellen und Ihre Anliegen einzubringen. Der persönliche Dialog mit den Bürgern unserer Region liegt uns am Herzen. Außerdem wird unser Kreisvorsitzender\, Gordon Köhler\, MdL\, einen Bericht aus dem Landtag  und Einblicke in seine Arbeit als Abgeordneter geben. \nWir freuen uns auf Ihr Kommen!
URL:https://afd-lsa.de/event/buergerabend-in-derben/
LOCATION:Derben\, Hauptstraße 7\, Derben\, 39317
ATTACH;FMTTYPE=image/png:https://afd-lsa.de/wp-content/uploads/2025/10/AfD-Buergerabend_2210.png
END:VEVENT
BEGIN:VEVENT
DTSTART;TZID=Europe/Helsinki:20251022T180000
DTEND;TZID=Europe/Helsinki:20251022T200000
DTSTAMP:20260424T231624
CREATED:20251022T123032Z
LAST-MODIFIED:20251022T123032Z
UID:10000014-1761156000-1761163200@afd-lsa.de
SUMMARY:Stammtisch in Roßlau
DESCRIPTION:Stammtisch mit den Bundestagsabgeordneten Claudia Weiß und Sascha Lensing.
URL:https://afd-lsa.de/event/stammtisch-in-rosslau/
LOCATION:Gaststätte „Zur Biethe“\, Clara-Zetkin-Str. 40\, Roßlau
ATTACH;FMTTYPE=image/jpeg:https://afd-lsa.de/wp-content/uploads/2025/10/566207275_122210141516055758_8490895090861458749_n.jpg
END:VEVENT
END:VCALENDAR