BEGIN:VCALENDAR
VERSION:2.0
PRODID:-//AfD Landesverband Sachsen-Anhalt - ECPv6.15.20//NONSGML v1.0//EN
CALSCALE:GREGORIAN
METHOD:PUBLISH
X-WR-CALNAME:AfD Landesverband Sachsen-Anhalt
X-ORIGINAL-URL:https://afd-lsa.de
X-WR-CALDESC:Veranstaltungen für AfD Landesverband Sachsen-Anhalt
REFRESH-INTERVAL;VALUE=DURATION:PT1H
X-Robots-Tag:noindex
X-PUBLISHED-TTL:PT1H
BEGIN:VTIMEZONE
TZID:Europe/Helsinki
BEGIN:DAYLIGHT
TZOFFSETFROM:+0200
TZOFFSETTO:+0300
TZNAME:EEST
DTSTART:20240331T010000
END:DAYLIGHT
BEGIN:STANDARD
TZOFFSETFROM:+0300
TZOFFSETTO:+0200
TZNAME:EET
DTSTART:20241027T010000
END:STANDARD
BEGIN:DAYLIGHT
TZOFFSETFROM:+0200
TZOFFSETTO:+0300
TZNAME:EEST
DTSTART:20250330T010000
END:DAYLIGHT
BEGIN:STANDARD
TZOFFSETFROM:+0300
TZOFFSETTO:+0200
TZNAME:EET
DTSTART:20251026T010000
END:STANDARD
BEGIN:DAYLIGHT
TZOFFSETFROM:+0200
TZOFFSETTO:+0300
TZNAME:EEST
DTSTART:20260329T010000
END:DAYLIGHT
BEGIN:STANDARD
TZOFFSETFROM:+0300
TZOFFSETTO:+0200
TZNAME:EET
DTSTART:20261025T010000
END:STANDARD
END:VTIMEZONE
BEGIN:VEVENT
DTSTART;TZID=Europe/Helsinki:20251024T180000
DTEND;TZID=Europe/Helsinki:20251024T220000
DTSTAMP:20260424T232019
CREATED:20251021T071903Z
LAST-MODIFIED:20251021T072004Z
UID:10000005-1761328800-1761343200@afd-lsa.de
SUMMARY:Bürgerdialog der AfD-Fraktion im Bundestag
DESCRIPTION:„Wir laden alle interessierten Bürger zum Bürgerdialog ein. Die ideale Möglichkeit für Sie\, mit unseren Abgeordneten direkt in Kontakt zu treten und mehr über den parlamentarischen Arbeitsalltag zu erfahren. Nutzen Sie diese Gelegenheit\, um Fragen zu stellen und mit uns über die Zukunft Deutschlands zu diskutieren. Wir freuen uns auf Ihr Erscheinen! \nEine Anmeldung ist nicht erforderlich.“
URL:https://afd-lsa.de/event/buergerdialog-der-afd-fraktion-im-bundestag/
LOCATION:Lindenhof Wernigerode\, Wernigeröder Str. 1\, Wernigerode\, 38855
ATTACH;FMTTYPE=image/jpeg:https://afd-lsa.de/wp-content/uploads/2025/10/lg_sachsen-anhalt_social-media-1080x1080_24.10.25_wernigerode-WEB.jpg
END:VEVENT
END:VCALENDAR