BEGIN:VCALENDAR
VERSION:2.0
PRODID:-//AfD Landesverband Sachsen-Anhalt - ECPv6.15.20//NONSGML v1.0//EN
CALSCALE:GREGORIAN
METHOD:PUBLISH
X-ORIGINAL-URL:https://afd-lsa.de
X-WR-CALDESC:Veranstaltungen für AfD Landesverband Sachsen-Anhalt
REFRESH-INTERVAL;VALUE=DURATION:PT1H
X-Robots-Tag:noindex
X-PUBLISHED-TTL:PT1H
BEGIN:VTIMEZONE
TZID:Europe/Helsinki
BEGIN:DAYLIGHT
TZOFFSETFROM:+0200
TZOFFSETTO:+0300
TZNAME:EEST
DTSTART:20240331T010000
END:DAYLIGHT
BEGIN:STANDARD
TZOFFSETFROM:+0300
TZOFFSETTO:+0200
TZNAME:EET
DTSTART:20241027T010000
END:STANDARD
BEGIN:DAYLIGHT
TZOFFSETFROM:+0200
TZOFFSETTO:+0300
TZNAME:EEST
DTSTART:20250330T010000
END:DAYLIGHT
BEGIN:STANDARD
TZOFFSETFROM:+0300
TZOFFSETTO:+0200
TZNAME:EET
DTSTART:20251026T010000
END:STANDARD
BEGIN:DAYLIGHT
TZOFFSETFROM:+0200
TZOFFSETTO:+0300
TZNAME:EEST
DTSTART:20260329T010000
END:DAYLIGHT
BEGIN:STANDARD
TZOFFSETFROM:+0300
TZOFFSETTO:+0200
TZNAME:EET
DTSTART:20261025T010000
END:STANDARD
END:VTIMEZONE
BEGIN:VEVENT
DTSTART;TZID=Europe/Helsinki:20251107T183000
DTEND;TZID=Europe/Helsinki:20251107T210000
DTSTAMP:20260424T213843
CREATED:20251028T084341Z
LAST-MODIFIED:20251028T084341Z
UID:10000015-1762540200-1762549200@afd-lsa.de
SUMMARY:Bürgerdialog der AfD-Fraktion in Dessau-Roßlau
DESCRIPTION:Gibt es Dinge\, die Sie unsere Abgeordneten schon immer mal fragen wollten? \nAm Freitag\, 7. November 2025\, haben Sie dafür die Gelegenheit! \nKommen Sie vorbei und sprechen Sie mit uns! \nAbgeordnete der AfD-Fraktion im Landtag von Sachsen-Anhalt werden mit Ihnen über das aktuelle politische Geschehen diskutieren und Einblicke in die parlamentarische Arbeit der stärksten Opposition im Landtag geben. \nPodiumsgäste sind Dr. Hans-Thomas Tillschneider (stellvertretender Vorsitzender der AfD-Fraktion im Landtag von Sachsen-Anhalt und deren Sprecher für Bildung\, Kultur und Wissenschaft)\, Martin Reichardt (Vorsitzender der AfD Sachsen-Anhalt und Bundestagsabgeordneter)\, Stephan Brandner (Parlamentarischer Geschäftsführer der AfD-Bundestagsfraktion) und Nadine Koppehel (Abgeordnete der AfD-Fraktion im Landtag von Sachsen-Anhalt und deren und Sprecherin für Petitionen). \n 
URL:https://afd-lsa.de/event/buergerdialog-der-afd-fraktion-in-dessau-rosslau/
LOCATION:Gaststätte „Zur Biethe“\, Clara-Zetkin-Str. 40\, Roßlau
ATTACH;FMTTYPE=image/png:https://afd-lsa.de/wp-content/uploads/2025/10/FB_-Dialog_Dessau-Rosslau-07.11.2025.png
END:VEVENT
END:VCALENDAR