BEGIN:VCALENDAR
VERSION:2.0
PRODID:-//AfD Landesverband Sachsen-Anhalt - ECPv6.15.20//NONSGML v1.0//EN
CALSCALE:GREGORIAN
METHOD:PUBLISH
X-ORIGINAL-URL:https://afd-lsa.de
X-WR-CALDESC:Veranstaltungen für AfD Landesverband Sachsen-Anhalt
REFRESH-INTERVAL;VALUE=DURATION:PT1H
X-Robots-Tag:noindex
X-PUBLISHED-TTL:PT1H
BEGIN:VTIMEZONE
TZID:Europe/Helsinki
BEGIN:DAYLIGHT
TZOFFSETFROM:+0200
TZOFFSETTO:+0300
TZNAME:EEST
DTSTART:20240331T010000
END:DAYLIGHT
BEGIN:STANDARD
TZOFFSETFROM:+0300
TZOFFSETTO:+0200
TZNAME:EET
DTSTART:20241027T010000
END:STANDARD
BEGIN:DAYLIGHT
TZOFFSETFROM:+0200
TZOFFSETTO:+0300
TZNAME:EEST
DTSTART:20250330T010000
END:DAYLIGHT
BEGIN:STANDARD
TZOFFSETFROM:+0300
TZOFFSETTO:+0200
TZNAME:EET
DTSTART:20251026T010000
END:STANDARD
BEGIN:DAYLIGHT
TZOFFSETFROM:+0200
TZOFFSETTO:+0300
TZNAME:EEST
DTSTART:20260329T010000
END:DAYLIGHT
BEGIN:STANDARD
TZOFFSETFROM:+0300
TZOFFSETTO:+0200
TZNAME:EET
DTSTART:20261025T010000
END:STANDARD
END:VTIMEZONE
BEGIN:VEVENT
DTSTART;TZID=Europe/Helsinki:20251110T155627
DTEND;TZID=Europe/Helsinki:20251110T155627
DTSTAMP:20260424T213913
CREATED:20251110T135627Z
LAST-MODIFIED:20251110T135627Z
UID:10000023-1762790187-1762790187@afd-lsa.de
SUMMARY:Bürgerdialog der AfD-Fraktion im Bundestag in Biere
DESCRIPTION:Kommen Sie mit den Abgeordneten der AfD im Bundestag Claudia Weiss und Thomas Korell ins Gespräch! \nEine Voranmeldung über die Emailadresse landesgruppe-sachsen-anhalt@afdbundestag.de ist zur Teilnahme notwendig! \nWir freuen uns auf Sie!
URL:https://afd-lsa.de/event/25_11_21_bd_bt_biere/
LOCATION:Biere\, Biere
ATTACH;FMTTYPE=image/jpeg:https://afd-lsa.de/wp-content/uploads/2025/11/Buergerdialog-Biere-Werk-II.jpeg
END:VEVENT
END:VCALENDAR