BEGIN:VCALENDAR
VERSION:2.0
PRODID:-//AfD Landesverband Sachsen-Anhalt - ECPv6.15.20//NONSGML v1.0//EN
CALSCALE:GREGORIAN
METHOD:PUBLISH
X-WR-CALNAME:AfD Landesverband Sachsen-Anhalt
X-ORIGINAL-URL:https://afd-lsa.de
X-WR-CALDESC:Veranstaltungen für AfD Landesverband Sachsen-Anhalt
REFRESH-INTERVAL;VALUE=DURATION:PT1H
X-Robots-Tag:noindex
X-PUBLISHED-TTL:PT1H
BEGIN:VTIMEZONE
TZID:Europe/Helsinki
BEGIN:DAYLIGHT
TZOFFSETFROM:+0200
TZOFFSETTO:+0300
TZNAME:EEST
DTSTART:20250330T010000
END:DAYLIGHT
BEGIN:STANDARD
TZOFFSETFROM:+0300
TZOFFSETTO:+0200
TZNAME:EET
DTSTART:20251026T010000
END:STANDARD
BEGIN:DAYLIGHT
TZOFFSETFROM:+0200
TZOFFSETTO:+0300
TZNAME:EEST
DTSTART:20260329T010000
END:DAYLIGHT
BEGIN:STANDARD
TZOFFSETFROM:+0300
TZOFFSETTO:+0200
TZNAME:EET
DTSTART:20261025T010000
END:STANDARD
BEGIN:DAYLIGHT
TZOFFSETFROM:+0200
TZOFFSETTO:+0300
TZNAME:EEST
DTSTART:20270328T010000
END:DAYLIGHT
BEGIN:STANDARD
TZOFFSETFROM:+0300
TZOFFSETTO:+0200
TZNAME:EET
DTSTART:20271031T010000
END:STANDARD
END:VTIMEZONE
BEGIN:VEVENT
DTSTART;TZID=Europe/Helsinki:20260302T180000
DTEND;TZID=Europe/Helsinki:20260302T210000
DTSTAMP:20260424T143221
CREATED:20260204T114955Z
LAST-MODIFIED:20260204T114955Z
UID:10000033-1772474400-1772485200@afd-lsa.de
SUMMARY:Bürgerdialog der AfD-Fraktion in Staßfurt
DESCRIPTION:Gibt es Dinge\, die Sie unsere Abgeordneten schon immer mal fragen wollten? \nAm Montag\, dem 2. März 2026\, haben Sie dafür die Gelegenheit! \nKommen Sie vorbei und sprechen Sie direkt vor Ort mit uns: Landhaus Staßfurt\, Hohlweg 1\, 39418 Staßfurt. Einlass ab 18:00 Uhr\, Beginn um 18:30 Uhr. \nAbgeordnete der AfD-Fraktion im Landtag von Sachsen-Anhalt werden mit Ihnen über das aktuelle politische Geschehen diskutieren und Einblicke in die parlamentarische Arbeit der stärksten Opposition im Landtag geben. \nPodiumsgäste sind Ulrich Siegmund (Vorsitzender der AfD-Fraktion im Landtag von Sachsen-Anhalt)\, Matthias Büttner (3. stellvertretender Vorsitzender der AfD-Fraktion im Landtag von Sachsen-Anhalt) sowie Tobias Rausch (Parlamentarischer Geschäftsführer der AfD-Fraktion im Landtag von Sachsen-Anhalt). \nWir freuen uns auf den persönlichen Austausch am 2. März 2026 ab 18:30 Uhr.
URL:https://afd-lsa.de/event/26_03_02_bd_stassfurt/
LOCATION:Landhaus Staßfurt\, Hohlweg 1\, Staßfurt\, 39418
ATTACH;FMTTYPE=image/png:https://afd-lsa.de/wp-content/uploads/2026/02/FB_-Dialog-Stassfurt-02.03.2026.png
END:VEVENT
END:VCALENDAR