BEGIN:VCALENDAR
VERSION:2.0
PRODID:-//AfD Landesverband Sachsen-Anhalt - ECPv6.15.20//NONSGML v1.0//EN
CALSCALE:GREGORIAN
METHOD:PUBLISH
X-ORIGINAL-URL:https://afd-lsa.de
X-WR-CALDESC:Veranstaltungen für AfD Landesverband Sachsen-Anhalt
REFRESH-INTERVAL;VALUE=DURATION:PT1H
X-Robots-Tag:noindex
X-PUBLISHED-TTL:PT1H
BEGIN:VTIMEZONE
TZID:Europe/Helsinki
BEGIN:DAYLIGHT
TZOFFSETFROM:+0200
TZOFFSETTO:+0300
TZNAME:EEST
DTSTART:20250330T010000
END:DAYLIGHT
BEGIN:STANDARD
TZOFFSETFROM:+0300
TZOFFSETTO:+0200
TZNAME:EET
DTSTART:20251026T010000
END:STANDARD
BEGIN:DAYLIGHT
TZOFFSETFROM:+0200
TZOFFSETTO:+0300
TZNAME:EEST
DTSTART:20260329T010000
END:DAYLIGHT
BEGIN:STANDARD
TZOFFSETFROM:+0300
TZOFFSETTO:+0200
TZNAME:EET
DTSTART:20261025T010000
END:STANDARD
BEGIN:DAYLIGHT
TZOFFSETFROM:+0200
TZOFFSETTO:+0300
TZNAME:EEST
DTSTART:20270328T010000
END:DAYLIGHT
BEGIN:STANDARD
TZOFFSETFROM:+0300
TZOFFSETTO:+0200
TZNAME:EET
DTSTART:20271031T010000
END:STANDARD
END:VTIMEZONE
BEGIN:VEVENT
DTSTART;TZID=Europe/Helsinki:20260310T170000
DTEND;TZID=Europe/Helsinki:20260310T180000
DTSTAMP:20260424T142214
CREATED:20260204T115502Z
LAST-MODIFIED:20260213T082341Z
UID:10000034-1773162000-1773165600@afd-lsa.de
SUMMARY:Bürgerdialog der AfD-Fraktion in Krottdorf
DESCRIPTION:Gibt es Dinge\, die Sie unsere Abgeordneten schon immer mal fragen wollten? \nAm Dienstag\, dem 10. März 2026\, haben Sie dafür die Gelegenheit! \nKommen Sie vorbei und sprechen Sie direkt vor Ort mit uns: Deutsches Haus\, Zur breiten Straße 59\, 39397 Gröningen OT Krottorf. Einlass ab 16:30 Uhr\, Beginn um 17:00 Uhr. \nAbgeordnete der AfD-Fraktion im Landtag von Sachsen-Anhalt sowie der AfD-Bundestagsfraktion werden mit Ihnen über das aktuelle politische Geschehen diskutieren und Einblicke in die parlamentarische Arbeit der stärksten Opposition im Landtag geben. \nPodiumsgäste sind Ulrich Siegmund (Vorsitzender der AfD-Fraktion im Landtag von Sachsen-Anhalt)\, Martin Reichardt (Vorsitzender der AfD Sachsen-Anhalt und AfD-Bundestagsabgeordneter) sowie Felix Zietmann (Abgeordneter der AfD-Fraktion im Landtag von Sachsen-Anhalt). \nWir freuen uns auf den persönlichen Austausch am 10. März 2026 ab 17:00 Uhr.
URL:https://afd-lsa.de/event/26_03_10_bd_krottdorf/
LOCATION:Deutsches Haus Krottdorf\, Zur breiten Straße\, Gröningen OT Krottdorf\, 39397
ATTACH;FMTTYPE=image/png:https://afd-lsa.de/wp-content/uploads/2026/02/FB_-Dialog-Krottorf-10.03.2026.png
END:VEVENT
BEGIN:VEVENT
DTSTART;TZID=Europe/Helsinki:20260310T183000
DTEND;TZID=Europe/Helsinki:20260310T210000
DTSTAMP:20260424T142214
CREATED:20260204T121006Z
LAST-MODIFIED:20260213T082302Z
UID:10000035-1773167400-1773176400@afd-lsa.de
SUMMARY:Bürgerdialog der AfD-Fraktion in Oschersleben
DESCRIPTION:Gibt es Dinge\, die Sie unsere Abgeordneten schon immer mal fragen wollten? \nAm Dienstag\, dem 10. März 2026\, haben Sie dafür die Gelegenheit! \nKommen Sie vorbei und sprechen Sie direkt vor Ort mit uns: Country und Biker Cafe\, Nickelkuhl 15\, 39387 Oschersleben. Einlass ab 18:00 Uhr\, Beginn um 18:30 Uhr. \nAbgeordnete der AfD-Fraktion im Landtag von Sachsen-Anhalt sowie der AfD-Bundestagsfraktion werden mit Ihnen über das aktuelle politische Geschehen diskutieren und Einblicke in die parlamentarische Arbeit der stärksten Opposition im Landtag geben. \nPodiumsgäste sind Ulrich Siegmund (Vorsitzender der AfD-Fraktion im Landtag von Sachsen-Anhalt)\, Martin Reichardt (Vorsitzender der AfD Sachsen-Anhalt und AfD-Bundestagsabgeordneter) sowie Felix Zietmann (Abgeordneter der AfD-Fraktion im Landtag von Sachsen-Anhalt). \nWir freuen uns auf den persönlichen Austausch am 10. März 2026 ab 18:30 Uhr.
URL:https://afd-lsa.de/event/26_03_10_bd_oschersleben/
LOCATION:Country und Biker Cafe Oschersleben\, Nickelkuhl 15\, Oschersleben\, 39387
ATTACH;FMTTYPE=image/png:https://afd-lsa.de/wp-content/uploads/2026/02/FB_-Dialog-Oschersleben-10.03.2026.png
END:VEVENT
END:VCALENDAR