BEGIN:VCALENDAR
VERSION:2.0
PRODID:-//AfD Landesverband Sachsen-Anhalt - ECPv6.15.20//NONSGML v1.0//EN
CALSCALE:GREGORIAN
METHOD:PUBLISH
X-ORIGINAL-URL:https://afd-lsa.de
X-WR-CALDESC:Veranstaltungen für AfD Landesverband Sachsen-Anhalt
REFRESH-INTERVAL;VALUE=DURATION:PT1H
X-Robots-Tag:noindex
X-PUBLISHED-TTL:PT1H
BEGIN:VTIMEZONE
TZID:Europe/Helsinki
BEGIN:DAYLIGHT
TZOFFSETFROM:+0200
TZOFFSETTO:+0300
TZNAME:EEST
DTSTART:20250330T010000
END:DAYLIGHT
BEGIN:STANDARD
TZOFFSETFROM:+0300
TZOFFSETTO:+0200
TZNAME:EET
DTSTART:20251026T010000
END:STANDARD
BEGIN:DAYLIGHT
TZOFFSETFROM:+0200
TZOFFSETTO:+0300
TZNAME:EEST
DTSTART:20260329T010000
END:DAYLIGHT
BEGIN:STANDARD
TZOFFSETFROM:+0300
TZOFFSETTO:+0200
TZNAME:EET
DTSTART:20261025T010000
END:STANDARD
BEGIN:DAYLIGHT
TZOFFSETFROM:+0200
TZOFFSETTO:+0300
TZNAME:EEST
DTSTART:20270328T010000
END:DAYLIGHT
BEGIN:STANDARD
TZOFFSETFROM:+0300
TZOFFSETTO:+0200
TZNAME:EET
DTSTART:20271031T010000
END:STANDARD
END:VTIMEZONE
BEGIN:VEVENT
DTSTART;TZID=Europe/Helsinki:20260425T180000
DTEND;TZID=Europe/Helsinki:20260425T210000
DTSTAMP:20260424T160942
CREATED:20260417T083602Z
LAST-MODIFIED:20260417T083602Z
UID:10000053-1777140000-1777150800@afd-lsa.de
SUMMARY:Bürgerdialog der AfD-Bundestagsfraktion in Branderoda
DESCRIPTION:Die MdB-Landesgruppe Sachsen-Anhalt lädt Sie herzlich zum Bürgerdialog am 25.04.2026 in Branderoda ein. Die Veranstaltung findet im Wirtshaus „Drei Linden“\nDorfstraße 34\, Branderoda\, Sachsen-Anhalt 06632 statt\, Beginn ist um 18.00 Uhr der Einlass startet ab 17.30 Uhr. \nFreuen Sie sich auf spannende Beiträge und den direkten Austausch mit den Rednern Martin Reichardt (MdB)\, Kay Uwe Ziegler (MdB) und Dr. Hans Thomas Tilschneider (MdL). \nIm Rahmen der Veranstaltung erhalten Sie aktuelle Berichte aus Berlin und dem Landtag sowie Einblicke in die aktuelle politische Entwicklung und Entscheidungen. \nNutzen Sie die Gelegenheit Ihre Fragen zu stellen\, Anregungen einzubringen und mit den Abgeordneten ins Gespräch zu kommen. Alle Interessierten Bürger sind herzlich eingeladen – wir freuen uns auf Ihr Erscheinen!
URL:https://afd-lsa.de/event/26_04_25_bd_branderoda/
LOCATION:Wirtshaus Drei Linden Branderoda\, Dorfstr. 34\, Branderoda\, 06632
ATTACH;FMTTYPE=image/webp:https://afd-lsa.de/wp-content/uploads/2026/04/Branderoda.webp
END:VEVENT
END:VCALENDAR