BEGIN:VCALENDAR
VERSION:2.0
PRODID:-//AfD Landesverband Sachsen-Anhalt - ECPv6.15.20//NONSGML v1.0//EN
CALSCALE:GREGORIAN
METHOD:PUBLISH
X-ORIGINAL-URL:https://afd-lsa.de
X-WR-CALDESC:Veranstaltungen für AfD Landesverband Sachsen-Anhalt
REFRESH-INTERVAL;VALUE=DURATION:PT1H
X-Robots-Tag:noindex
X-PUBLISHED-TTL:PT1H
BEGIN:VTIMEZONE
TZID:Europe/Helsinki
BEGIN:DAYLIGHT
TZOFFSETFROM:+0200
TZOFFSETTO:+0300
TZNAME:EEST
DTSTART:20250330T010000
END:DAYLIGHT
BEGIN:STANDARD
TZOFFSETFROM:+0300
TZOFFSETTO:+0200
TZNAME:EET
DTSTART:20251026T010000
END:STANDARD
BEGIN:DAYLIGHT
TZOFFSETFROM:+0200
TZOFFSETTO:+0300
TZNAME:EEST
DTSTART:20260329T010000
END:DAYLIGHT
BEGIN:STANDARD
TZOFFSETFROM:+0300
TZOFFSETTO:+0200
TZNAME:EET
DTSTART:20261025T010000
END:STANDARD
BEGIN:DAYLIGHT
TZOFFSETFROM:+0200
TZOFFSETTO:+0300
TZNAME:EEST
DTSTART:20270328T010000
END:DAYLIGHT
BEGIN:STANDARD
TZOFFSETFROM:+0300
TZOFFSETTO:+0200
TZNAME:EET
DTSTART:20271031T010000
END:STANDARD
END:VTIMEZONE
BEGIN:VEVENT
DTSTART;TZID=Europe/Helsinki:20260427T173000
DTEND;TZID=Europe/Helsinki:20260427T210000
DTSTAMP:20260424T160943
CREATED:20260416T121643Z
LAST-MODIFIED:20260416T121643Z
UID:10000051-1777311000-1777323600@afd-lsa.de
SUMMARY:Bürgerdialog der Bundestagsfraktion in Tangerhütte
DESCRIPTION:Die MdB-Landesgruppe Sachsen-Anhalt lädt Sie herzlich zum Bürgerdialog am 27. April 2026 in Tangerhütte ein. Die Veranstaltung findet im Kulturhaus statt\, Beginn ist um 18:00 Uhr\, der Einlass startet ab 17:30 Uhr. \nFreuen Sie sich auf spannende Beiträge und den direkten Austausch mit den Rednern Claudia Weiss (MdB)\, Thomas Korell (MdB)\, Leif-Erik Holm (MdB)\, Ulrich Siegmund (MdL) sowie Oliver Kirchner (MdL). Im Rahmen der Veranstaltung erhalten Sie aktuelle Berichte aus Berlin und dem Landtag sowie Einblicke in politische Entwicklungen und Entscheidungen. \nNutzen Sie die Gelegenheit\, Ihre Fragen zu stellen\, Anregungen einzubringen und mit den Abgeordneten ins Gespräch zu kommen. Alle Interessierten sind herzlich eingeladen – wir freuen uns auf Ihr Kommen!
URL:https://afd-lsa.de/event/26_04_27_bd_tangerhuette/
LOCATION:Kulturhaus Tangerhütte\, Straße der Jugend 41\, Tangerhütte\, 39517
ATTACH;FMTTYPE=image/jpeg:https://afd-lsa.de/wp-content/uploads/2026/04/WhatsApp-Image-2026-04-16-at-11.57.06.jpeg
END:VEVENT
END:VCALENDAR