BEGIN:VCALENDAR
VERSION:2.0
PRODID:-//AfD Landesverband Sachsen-Anhalt - ECPv6.15.20//NONSGML v1.0//EN
CALSCALE:GREGORIAN
METHOD:PUBLISH
X-WR-CALNAME:AfD Landesverband Sachsen-Anhalt
X-ORIGINAL-URL:https://afd-lsa.de
X-WR-CALDESC:Veranstaltungen für AfD Landesverband Sachsen-Anhalt
REFRESH-INTERVAL;VALUE=DURATION:PT1H
X-Robots-Tag:noindex
X-PUBLISHED-TTL:PT1H
BEGIN:VTIMEZONE
TZID:Europe/Helsinki
BEGIN:DAYLIGHT
TZOFFSETFROM:+0200
TZOFFSETTO:+0300
TZNAME:EEST
DTSTART:20250330T010000
END:DAYLIGHT
BEGIN:STANDARD
TZOFFSETFROM:+0300
TZOFFSETTO:+0200
TZNAME:EET
DTSTART:20251026T010000
END:STANDARD
BEGIN:DAYLIGHT
TZOFFSETFROM:+0200
TZOFFSETTO:+0300
TZNAME:EEST
DTSTART:20260329T010000
END:DAYLIGHT
BEGIN:STANDARD
TZOFFSETFROM:+0300
TZOFFSETTO:+0200
TZNAME:EET
DTSTART:20261025T010000
END:STANDARD
BEGIN:DAYLIGHT
TZOFFSETFROM:+0200
TZOFFSETTO:+0300
TZNAME:EEST
DTSTART:20270328T010000
END:DAYLIGHT
BEGIN:STANDARD
TZOFFSETFROM:+0300
TZOFFSETTO:+0200
TZNAME:EET
DTSTART:20271031T010000
END:STANDARD
END:VTIMEZONE
BEGIN:VEVENT
DTSTART;TZID=Europe/Helsinki:20260428T183000
DTEND;TZID=Europe/Helsinki:20260428T210000
DTSTAMP:20260424T160116
CREATED:20260316T125741Z
LAST-MODIFIED:20260420T093419Z
UID:10000044-1777401000-1777410000@afd-lsa.de
SUMMARY:Bürgerdialog der AfD-Fraktion in Burg
DESCRIPTION:Gibt es Dinge\, die Sie unsere Abgeordneten schon immer mal fragen wollten? \nAm Dienstag\, dem 28. April 2026\, haben Sie dafür die Gelegenheit! \nKommen Sie vorbei und sprechen Sie direkt vor Ort mit uns: Stadthalle Burg\, Platz des Friedens 1\, 39288 Burg. Einlass ab 18:00 Uhr\, Beginn um 18:30 Uhr. \nAbgeordnete der AfD-Fraktion im Landtag von Sachsen-Anhalt werden mit Ihnen über das aktuelle politische Geschehen diskutieren und Einblicke in die parlamentarische Arbeit der stärksten Opposition im Landtag geben. \nPodiumsgäste sind Ulrich Siegmund (Vorsitzender der AfD-Fraktion im Landtag von Sachsen-Anhalt)\, Gordon Köhler (2. stellvertretender Vorsitzender der AfD-Fraktion im Landtag von Sachsen-Anhalt) sowie Jan Scharfenort (Abgeordneter der AfD-Fraktion im Landtag von Sachsen-Anhalt). \nWir freuen uns auf den persönlichen Austausch am 28. April 2026 ab 18:30 Uhr.
URL:https://afd-lsa.de/event/26_04_28_bd_burg/
LOCATION:Stadthalle Burg\, Platz des Friedens 1\, Burg\, 39288
ATTACH;FMTTYPE=image/png:https://afd-lsa.de/wp-content/uploads/2026/03/FB_-Dialog_Burg-28.04.2026.png
END:VEVENT
BEGIN:VEVENT
DTSTART;TZID=Europe/Helsinki:20260428T190000
DTEND;TZID=Europe/Helsinki:20260428T210000
DTSTAMP:20260424T160116
CREATED:20260423T083817Z
LAST-MODIFIED:20260423T083817Z
UID:10000057-1777402800-1777410000@afd-lsa.de
SUMMARY:Bürgerdialog der Bundestagsfraktion in Seeburg
DESCRIPTION:Die MdB-Landesgruppe Sachsen-Anhalt lädt Sie herzlich zum Bürgerdialog am 28.04.2026 in Seeburg ein. Die Veranstaltung findet im Dorfgemeinschaftshaus Seeburg\nstatt\, Beginn ist um 19.00 Uhr der Einlass startet ab 18.30 Uhr. \nFreuen Sie sich auf spannende Beiträge und den direkten Austausch mit den Rednern Kay-Uwe Ziegler (MdB)\, Martin Reichardt (MdB) und Florian Schröder (MdL). \nIm Rahmen der Veranstaltung erhalten Sie aktuelle Berichte aus Berlin und dem Landtag sowie Einblicke in die aktuelle politische Entwicklung und Entscheidungen. \nNutzen Sie die Gelegenheit Ihre Fragen zu stellen\, Anregungen einzubringen und mit den Abgeordneten ins Gespräch zu kommen. Alle Interessierten Bürger sind herzlich eingeladen – wir freuen uns auf Ihr Erscheinen!
URL:https://afd-lsa.de/event/26_04_28_bd_seeburg/
LOCATION:Dorfgemeinschaftshaus Seeburg\, Am Sportplatz 16\, Seegebiet Mansfelder Land OT Seeburg\, 06317
ATTACH;FMTTYPE=image/jpeg:https://afd-lsa.de/wp-content/uploads/2026/04/WhatsApp-Image-2026-04-23-at-07.14.58.jpeg
END:VEVENT
END:VCALENDAR