BEGIN:VCALENDAR
VERSION:2.0
PRODID:-//AfD Landesverband Sachsen-Anhalt - ECPv6.15.20//NONSGML v1.0//EN
CALSCALE:GREGORIAN
METHOD:PUBLISH
X-ORIGINAL-URL:https://afd-lsa.de
X-WR-CALDESC:Veranstaltungen für AfD Landesverband Sachsen-Anhalt
REFRESH-INTERVAL;VALUE=DURATION:PT1H
X-Robots-Tag:noindex
X-PUBLISHED-TTL:PT1H
BEGIN:VTIMEZONE
TZID:Europe/Helsinki
BEGIN:DAYLIGHT
TZOFFSETFROM:+0200
TZOFFSETTO:+0300
TZNAME:EEST
DTSTART:20250330T010000
END:DAYLIGHT
BEGIN:STANDARD
TZOFFSETFROM:+0300
TZOFFSETTO:+0200
TZNAME:EET
DTSTART:20251026T010000
END:STANDARD
BEGIN:DAYLIGHT
TZOFFSETFROM:+0200
TZOFFSETTO:+0300
TZNAME:EEST
DTSTART:20260329T010000
END:DAYLIGHT
BEGIN:STANDARD
TZOFFSETFROM:+0300
TZOFFSETTO:+0200
TZNAME:EET
DTSTART:20261025T010000
END:STANDARD
BEGIN:DAYLIGHT
TZOFFSETFROM:+0200
TZOFFSETTO:+0300
TZNAME:EEST
DTSTART:20270328T010000
END:DAYLIGHT
BEGIN:STANDARD
TZOFFSETFROM:+0300
TZOFFSETTO:+0200
TZNAME:EET
DTSTART:20271031T010000
END:STANDARD
END:VTIMEZONE
BEGIN:VEVENT
DTSTART;TZID=Europe/Helsinki:20260430T170000
DTEND;TZID=Europe/Helsinki:20260430T210000
DTSTAMP:20260424T160520
CREATED:20260416T121843Z
LAST-MODIFIED:20260416T121843Z
UID:10000052-1777568400-1777582800@afd-lsa.de
SUMMARY:Bürgerdialog der Bundestagsfraktion in Halle
DESCRIPTION:Die MdB-Landesgruppe Sachsen-Anhalt lädt Sie herzlich zum Bürgerdialog am 30. April 2026 in Halle ein. Die Veranstaltung findet im Dormero Kongresstentrum statt\, Beginn ist um 18:00 Uhr\, der Einlass startet ab 17:00 Uhr. \nFreuen Sie sich auf spannende Beiträge und den direkten Austausch mit den Rednern Claudia Weiss (MdB)\, Martin Reichardt (MdB)\, Kay Uwe Ziegler (MdB)\, Ulrich Siegmund (MdL) sowie Dennis Hohloch (MdL). Im Rahmen der Veranstaltung erhalten Sie aktuelle Berichte aus Berlin und dem Landtag sowie Einblicke in politische Entwicklungen und Entscheidungen. \nNutzen Sie die Gelegenheit\, Ihre Fragen zu stellen\, Anregungen einzubringen und mit den Abgeordneten ins Gespräch zu kommen. Alle Interessierten sind herzlich eingeladen – wir freuen uns auf Ihr Kommen!
URL:https://afd-lsa.de/event/26_04_30_bd_halle/
LOCATION:Dormero Kongresszentrum Halle\, Francke Str. 1\, Halle/Saale\, 06108
ATTACH;FMTTYPE=image/jpeg:https://afd-lsa.de/wp-content/uploads/2026/04/WhatsApp-Image-2026-04-16-at-11.59.55.jpeg
END:VEVENT
END:VCALENDAR