BEGIN:VCALENDAR
VERSION:2.0
PRODID:-//AfD Landesverband Sachsen-Anhalt - ECPv6.15.20//NONSGML v1.0//EN
CALSCALE:GREGORIAN
METHOD:PUBLISH
X-WR-CALNAME:AfD Landesverband Sachsen-Anhalt
X-ORIGINAL-URL:https://afd-lsa.de
X-WR-CALDESC:Veranstaltungen für AfD Landesverband Sachsen-Anhalt
REFRESH-INTERVAL;VALUE=DURATION:PT1H
X-Robots-Tag:noindex
X-PUBLISHED-TTL:PT1H
BEGIN:VTIMEZONE
TZID:Europe/Berlin
BEGIN:DAYLIGHT
TZOFFSETFROM:+0100
TZOFFSETTO:+0200
TZNAME:CEST
DTSTART:20250330T010000
END:DAYLIGHT
BEGIN:STANDARD
TZOFFSETFROM:+0200
TZOFFSETTO:+0100
TZNAME:CET
DTSTART:20251026T010000
END:STANDARD
BEGIN:DAYLIGHT
TZOFFSETFROM:+0100
TZOFFSETTO:+0200
TZNAME:CEST
DTSTART:20260329T010000
END:DAYLIGHT
BEGIN:STANDARD
TZOFFSETFROM:+0200
TZOFFSETTO:+0100
TZNAME:CET
DTSTART:20261025T010000
END:STANDARD
BEGIN:DAYLIGHT
TZOFFSETFROM:+0100
TZOFFSETTO:+0200
TZNAME:CEST
DTSTART:20270328T010000
END:DAYLIGHT
BEGIN:STANDARD
TZOFFSETFROM:+0200
TZOFFSETTO:+0100
TZNAME:CET
DTSTART:20271031T010000
END:STANDARD
END:VTIMEZONE
BEGIN:VEVENT
DTSTART;TZID=Europe/Berlin:20260506T183000
DTEND;TZID=Europe/Berlin:20260506T210000
DTSTAMP:20260424T174758
CREATED:20260409T063345Z
LAST-MODIFIED:20260409T063345Z
UID:10000049-1778092200-1778101200@afd-lsa.de
SUMMARY:Bürgerdialog der AfD-Fraktion in Thale
DESCRIPTION:Gibt es Dinge\, die Sie unsere Abgeordneten schon immer mal fragen wollten? \nAm Mittwoch\, dem 6. Mai 2026\, haben Sie dafür die Gelegenheit! \nKommen Sie vorbei und sprechen Sie direkt vor Ort mit uns: Klubhaus Thale\, Walpurgisstraße 37\, 06502 Thale. \nEinlass ab 18:00 Uhr\, Beginn um 18:30 Uhr. \nAbgeordnete der AfD-Fraktion im Landtag von Sachsen-Anhalt werden mit Ihnen über das aktuelle politische Geschehen diskutieren und Einblicke in die parlamentarische Arbeit der stärksten Opposition im Landtag geben. \nPodiumsgäste sind Ulrich Siegmund (Vorsitzender der AfD-Fraktion im Landtag von Sachsen-Anhalt)\, Dr. Hans-Thomas Tillschneider (1. stellvertretender Vorsitzender der AfD-Fraktion im Landtag von Sachsen-Anhalt) sowie Christian Hecht (Abgeordneter der AfD-Fraktion im Landtag von Sachsen-Anhalt). \nWir freuen uns auf den persönlichen Austausch am 6. Mai 2026 ab 18:30 Uhr.
URL:https://afd-lsa.de/event/26_05_06_thale/
LOCATION:Klubhaus Thale\, Walpurgisstraße 37\, Thale\, 06502
ATTACH;FMTTYPE=image/png:https://afd-lsa.de/wp-content/uploads/2026/04/FB_-Dialog_Thale-06.05.2026.png
END:VEVENT
END:VCALENDAR