BEGIN:VCALENDAR
VERSION:2.0
PRODID:-//AfD Landesverband Sachsen-Anhalt - ECPv6.15.20//NONSGML v1.0//EN
CALSCALE:GREGORIAN
METHOD:PUBLISH
X-ORIGINAL-URL:https://afd-lsa.de
X-WR-CALDESC:Veranstaltungen für AfD Landesverband Sachsen-Anhalt
REFRESH-INTERVAL;VALUE=DURATION:PT1H
X-Robots-Tag:noindex
X-PUBLISHED-TTL:PT1H
BEGIN:VTIMEZONE
TZID:Europe/Berlin
BEGIN:DAYLIGHT
TZOFFSETFROM:+0100
TZOFFSETTO:+0200
TZNAME:CEST
DTSTART:20250330T010000
END:DAYLIGHT
BEGIN:STANDARD
TZOFFSETFROM:+0200
TZOFFSETTO:+0100
TZNAME:CET
DTSTART:20251026T010000
END:STANDARD
BEGIN:DAYLIGHT
TZOFFSETFROM:+0100
TZOFFSETTO:+0200
TZNAME:CEST
DTSTART:20260329T010000
END:DAYLIGHT
BEGIN:STANDARD
TZOFFSETFROM:+0200
TZOFFSETTO:+0100
TZNAME:CET
DTSTART:20261025T010000
END:STANDARD
BEGIN:DAYLIGHT
TZOFFSETFROM:+0100
TZOFFSETTO:+0200
TZNAME:CEST
DTSTART:20270328T010000
END:DAYLIGHT
BEGIN:STANDARD
TZOFFSETFROM:+0200
TZOFFSETTO:+0100
TZNAME:CET
DTSTART:20271031T010000
END:STANDARD
END:VTIMEZONE
BEGIN:VEVENT
DTSTART;TZID=Europe/Berlin:20260507T183000
DTEND;TZID=Europe/Berlin:20260507T210000
DTSTAMP:20260424T175230
CREATED:20260409T063110Z
LAST-MODIFIED:20260409T063110Z
UID:10000048-1778178600-1778187600@afd-lsa.de
SUMMARY:Bürgerdialog der AfD-Fraktion in Wolmirstedt
DESCRIPTION:Gibt es Dinge\, die Sie unsere Abgeordneten schon immer mal fragen wollten? \nAm Donnerstag\, dem 7. Mai 2026\, haben Sie dafür die Gelegenheit! \nKommen Sie vorbei und sprechen Sie direkt vor Ort mit uns: Katharinensaal\, Amtstor 3\, 39326 Wolmirstedt. \nEinlass ab 18:00 Uhr\, Beginn um 18:30 Uhr. \nAbgeordnete der AfD-Fraktion im Landtag von Sachsen-Anhalt werden mit Ihnen über das aktuelle politische Geschehen diskutieren und Einblicke in die parlamentarische Arbeit der stärksten Opposition im Landtag geben. \nPodiumsgäste sind Ulrich Siegmund (Vorsitzender der AfD-Fraktion im Landtag von Sachsen-Anhalt)\, Felix Zietmann (Abgeordneter der AfD-Fraktion im Landtag von Sachsen-Anhalt) sowie Matthias Knispel (Abgeordneter der AfD-Fraktion im Landtag von Sachsen-Anhalt). \nWir freuen uns auf den persönlichen Austausch am 7. Mai 2026 ab 18:30 Uhr.
URL:https://afd-lsa.de/event/25_05_07_bd_wolmirstedt/
LOCATION:Katharinensaal Thale\, Amtstor 3\, Wolmirstedt\, 39326
ATTACH;FMTTYPE=image/png:https://afd-lsa.de/wp-content/uploads/2026/04/FB_-Dialog-Wolmirstedt-07.05.2026.png
END:VEVENT
END:VCALENDAR