BEGIN:VCALENDAR
VERSION:2.0
PRODID:-//AfD Landesverband Sachsen-Anhalt - ECPv6.15.20//NONSGML v1.0//EN
CALSCALE:GREGORIAN
METHOD:PUBLISH
X-WR-CALNAME:AfD Landesverband Sachsen-Anhalt
X-ORIGINAL-URL:https://afd-lsa.de
X-WR-CALDESC:Veranstaltungen für AfD Landesverband Sachsen-Anhalt
REFRESH-INTERVAL;VALUE=DURATION:PT1H
X-Robots-Tag:noindex
X-PUBLISHED-TTL:PT1H
BEGIN:VTIMEZONE
TZID:Europe/Helsinki
BEGIN:DAYLIGHT
TZOFFSETFROM:+0200
TZOFFSETTO:+0300
TZNAME:EEST
DTSTART:20240331T010000
END:DAYLIGHT
BEGIN:STANDARD
TZOFFSETFROM:+0300
TZOFFSETTO:+0200
TZNAME:EET
DTSTART:20241027T010000
END:STANDARD
BEGIN:DAYLIGHT
TZOFFSETFROM:+0200
TZOFFSETTO:+0300
TZNAME:EEST
DTSTART:20250330T010000
END:DAYLIGHT
BEGIN:STANDARD
TZOFFSETFROM:+0300
TZOFFSETTO:+0200
TZNAME:EET
DTSTART:20251026T010000
END:STANDARD
BEGIN:DAYLIGHT
TZOFFSETFROM:+0200
TZOFFSETTO:+0300
TZNAME:EEST
DTSTART:20260329T010000
END:DAYLIGHT
BEGIN:STANDARD
TZOFFSETFROM:+0300
TZOFFSETTO:+0200
TZNAME:EET
DTSTART:20261025T010000
END:STANDARD
END:VTIMEZONE
BEGIN:VTIMEZONE
TZID:UTC
BEGIN:STANDARD
TZOFFSETFROM:+0000
TZOFFSETTO:+0000
TZNAME:UTC
DTSTART:20240101T000000
END:STANDARD
END:VTIMEZONE
BEGIN:VEVENT
DTSTART;TZID=Europe/Helsinki:20251106T090000
DTEND;TZID=Europe/Helsinki:20251106T120000
DTSTAMP:20260424T194218
CREATED:20251021T072145Z
LAST-MODIFIED:20251021T072336Z
UID:10000006-1762419600-1762430400@afd-lsa.de
SUMMARY:Infostand in Weißenfels
DESCRIPTION:Infostand der AfD Burgenlandkreis mit Lothar Waehler\, Juliane Waehler und Dirk Jonas.
URL:https://afd-lsa.de/event/infostand-in-weissenfels/
LOCATION:Weißenfels\, Marktplatz
END:VEVENT
BEGIN:VEVENT
DTSTART;TZID=Europe/Helsinki:20251107T183000
DTEND;TZID=Europe/Helsinki:20251107T210000
DTSTAMP:20260424T194218
CREATED:20251028T084341Z
LAST-MODIFIED:20251028T084341Z
UID:10000015-1762540200-1762549200@afd-lsa.de
SUMMARY:Bürgerdialog der AfD-Fraktion in Dessau-Roßlau
DESCRIPTION:Gibt es Dinge\, die Sie unsere Abgeordneten schon immer mal fragen wollten? \nAm Freitag\, 7. November 2025\, haben Sie dafür die Gelegenheit! \nKommen Sie vorbei und sprechen Sie mit uns! \nAbgeordnete der AfD-Fraktion im Landtag von Sachsen-Anhalt werden mit Ihnen über das aktuelle politische Geschehen diskutieren und Einblicke in die parlamentarische Arbeit der stärksten Opposition im Landtag geben. \nPodiumsgäste sind Dr. Hans-Thomas Tillschneider (stellvertretender Vorsitzender der AfD-Fraktion im Landtag von Sachsen-Anhalt und deren Sprecher für Bildung\, Kultur und Wissenschaft)\, Martin Reichardt (Vorsitzender der AfD Sachsen-Anhalt und Bundestagsabgeordneter)\, Stephan Brandner (Parlamentarischer Geschäftsführer der AfD-Bundestagsfraktion) und Nadine Koppehel (Abgeordnete der AfD-Fraktion im Landtag von Sachsen-Anhalt und deren und Sprecherin für Petitionen). \n 
URL:https://afd-lsa.de/event/buergerdialog-der-afd-fraktion-in-dessau-rosslau/
LOCATION:Gaststätte „Zur Biethe“\, Clara-Zetkin-Str. 40\, Roßlau
ATTACH;FMTTYPE=image/png:https://afd-lsa.de/wp-content/uploads/2025/10/FB_-Dialog_Dessau-Rosslau-07.11.2025.png
END:VEVENT
BEGIN:VEVENT
DTSTART;TZID=Europe/Helsinki:20251108T160000
DTEND;TZID=Europe/Helsinki:20251108T200000
DTSTAMP:20260424T194218
CREATED:20251022T063507Z
LAST-MODIFIED:20251022T063507Z
UID:10000013-1762617600-1762632000@afd-lsa.de
SUMMARY:Skat- und Pokerabend in Burg
DESCRIPTION:Unser Skat- und Pokerabend geht in die nächste Runde! Kommt vorbei!
URL:https://afd-lsa.de/event/skat-und-pokerabend-in-burg/
LOCATION:Bürgerbüro Burg\, Kapellenstr. 28\, Burg\, 39288
ATTACH;FMTTYPE=image/png:https://afd-lsa.de/wp-content/uploads/2025/10/AfD-JL_Skatabend.png
END:VEVENT
BEGIN:VEVENT
DTSTART;TZID=Europe/Helsinki:20251110T155627
DTEND;TZID=Europe/Helsinki:20251110T155627
DTSTAMP:20260424T194218
CREATED:20251110T135627Z
LAST-MODIFIED:20251110T135627Z
UID:10000023-1762790187-1762790187@afd-lsa.de
SUMMARY:Bürgerdialog der AfD-Fraktion im Bundestag in Biere
DESCRIPTION:Kommen Sie mit den Abgeordneten der AfD im Bundestag Claudia Weiss und Thomas Korell ins Gespräch! \nEine Voranmeldung über die Emailadresse landesgruppe-sachsen-anhalt@afdbundestag.de ist zur Teilnahme notwendig! \nWir freuen uns auf Sie!
URL:https://afd-lsa.de/event/25_11_21_bd_bt_biere/
LOCATION:Biere\, Biere
ATTACH;FMTTYPE=image/jpeg:https://afd-lsa.de/wp-content/uploads/2025/11/Buergerdialog-Biere-Werk-II.jpeg
END:VEVENT
BEGIN:VEVENT
DTSTART;TZID=Europe/Helsinki:20251112T090000
DTEND;TZID=Europe/Helsinki:20251112T120000
DTSTAMP:20260424T194218
CREATED:20251021T072314Z
LAST-MODIFIED:20251114T130240Z
UID:10000007-1762938000-1762948800@afd-lsa.de
SUMMARY:Infostand in Zeitz
DESCRIPTION:Infostand der AfD Burgenlandkreis mit Lothar Waehler\, Juliane Waehler und Dirk Jonas.
URL:https://afd-lsa.de/event/infostand-in-zeitz-2/
LOCATION:Zeitz\, Platz der Deutschen Einheit
ATTACH;FMTTYPE=image/png:https://afd-lsa.de/wp-content/uploads/2025/11/Infostand-Platzhalter.png
END:VEVENT
BEGIN:VEVENT
DTSTART;TZID=Europe/Helsinki:20251114T080000
DTEND;TZID=Europe/Helsinki:20251114T170000
DTSTAMP:20260424T194218
CREATED:20251114T130737Z
LAST-MODIFIED:20251114T130756Z
UID:10000025-1763107200-1763139600@afd-lsa.de
SUMMARY:Weihnachtsfeier der AfD Magdeburg
DESCRIPTION:Liebe Freunde der AfD Magdeburg\,wir laden euch herzlich\, insbesondere auch Nichtmitglieder\, zu unserer Weihnachtsfeier ein\, die am 12. Dezember ab 16 Uhr stattfindet. Gemeinsam wollen wir eine gesellige Zeit bei Bier\, Wein und gutem Essen verbringen und über aktuelle politische Themen diskutieren.Datum: 12. Dezember 2025 Uhrzeit: Ab 16 Uhr Ort: MagdeburgBitte meldet eure Teilnahme bis zum 5. Dezember über den QR-Code oder über folgenden Link an: https://eveeno.com/AfDMagdeburg\, damit wir die Veranstaltung entsprechend planen und euch den Veranstaltungsort mitteilen können.Die Teilnahme an unserer Weihnachtsfeier ist kostenlos.Wir freuen uns auf eure zahlreiche Teilnahme und eine tolle gemeinsame Zeit.
URL:https://afd-lsa.de/event/weihnachtsfeier-der-afd-magdeburg2025/
LOCATION:Magdeburg\, Magdeburg
ATTACH;FMTTYPE=image/jpeg:https://afd-lsa.de/wp-content/uploads/2025/11/582045734_1369814941187931_2547116805759089441_n.jpg
END:VEVENT
BEGIN:VEVENT
DTSTART;VALUE=DATE:20251117
DTEND;VALUE=DATE:20251118
DTSTAMP:20260424T194218
CREATED:20251103T201523Z
LAST-MODIFIED:20251103T201523Z
UID:10000017-1763337600-1763423999@afd-lsa.de
SUMMARY:AfD-Fraktion im Landtag von Sachsen-Anhalt: Für Sie unterwegs!
DESCRIPTION:Die Altparteien reden über „Brandmauern“. Wir reden mit den Bürgern. Während CDU\, SPD und Grüne sich hinter Parteitagen verstecken\, ist die AfD-Fraktion dort\, wo es drauf ankommt: bei Ihnen vor Ort. \nAm 17. November macht unser Fraktionsbus Halt in Coswig (Anhalt): \n10:00 – 11:30 Uhr: Jeber-Bergfrieden\, Platz an der Volksbank \n12:00 – 13:30 Uhr: Serno\, Park gegenüber Gemeindezentrum \n14:00 – 16:00 Uhr: Möllensdorf\, Hauptstraße auf dem kleinen Parkplatz \nKlartext\, offene Worte\, direkte Gespräche. Dafür steht unsere AfD-Fraktion und in diesem Sinne laden wir Sie herzlich zum persönlichen Austausch ein. \nUnsere Landtagsabgeordneten Nadine Koppel\, Sprecherin für Petitionen der AfD-Landtagsfraktion\, sowie Margret Wendt\, Sprecherin für Verbraucherschutz der AfD-Landtagsfraktion\, werden Ihnen sehr gern Rede und Antwort stehen.
URL:https://afd-lsa.de/event/25_11_17_fsu_dessau_rosslau/
LOCATION:Dessau-Roßlau
ATTACH;FMTTYPE=image/png:https://afd-lsa.de/wp-content/uploads/2025/11/FB_Fuer-Sie-Unterweg-Dessau-Rosslau-17.11.2025.png
END:VEVENT
BEGIN:VEVENT
DTSTART;TZID=Europe/Helsinki:20251117T090000
DTEND;TZID=Europe/Helsinki:20251117T120000
DTSTAMP:20260424T194218
CREATED:20251021T072519Z
LAST-MODIFIED:20251114T130233Z
UID:10000008-1763370000-1763380800@afd-lsa.de
SUMMARY:Infostand in Naumburg
DESCRIPTION:Infostand der AfD Burgenlandkreis mit Lothar Waehler\, Juliane Waehler und Dirk Jonas.
URL:https://afd-lsa.de/event/infostand-in-naumburg-2/
LOCATION:Naumburg\, Martkplatz\, Naumburg
ATTACH;FMTTYPE=image/png:https://afd-lsa.de/wp-content/uploads/2025/11/Infostand-Platzhalter.png
END:VEVENT
BEGIN:VEVENT
DTSTART;TZID=Europe/Helsinki:20251118T090000
DTEND;TZID=Europe/Helsinki:20251118T130000
DTSTAMP:20260424T194218
CREATED:20251110T092652Z
LAST-MODIFIED:20251114T130227Z
UID:10000018-1763456400-1763470800@afd-lsa.de
SUMMARY:Infostand in Schönebeck
DESCRIPTION:Infostand der AfD Salzlandkreis.
URL:https://afd-lsa.de/event/25_11_18_is_schoenebeck/
LOCATION:Salzlandmuseum\, Pfännerstr. 41\, Schönebeck
ATTACH;FMTTYPE=image/png:https://afd-lsa.de/wp-content/uploads/2025/11/Infostand-Platzhalter.png
END:VEVENT
BEGIN:VEVENT
DTSTART;TZID=Europe/Helsinki:20251118T183000
DTEND;TZID=Europe/Helsinki:20251118T210000
DTSTAMP:20260424T194218
CREATED:20251028T141022Z
LAST-MODIFIED:20251103T201141Z
UID:10000016-1763490600-1763499600@afd-lsa.de
SUMMARY:Bürgerdialog der AfD-Fraktion in Brehna
DESCRIPTION:Gibt es Dinge\, die Sie unsere Abgeordneten schon immer mal fragen wollten? \nAm Dienstag\, dem 18. November 2025\, haben Sie dafür die Gelegenheit! \nKommen Sie vorbei und sprechen Sie direkt vor Ort mit uns: \nKultur- und Sportzentrum Brehna\, Bahnhofstr. 30B\, 06796 Sandersdorf-Brehna. Einlass ab 18:00 Uhr\, Beginn um 18:30 Uhr. \nAbgeordnete der AfD-Fraktion im Landtag von Sachsen-Anhalt werden mit Ihnen über das aktuelle politische Geschehen diskutieren und Einblicke in die parlamentarische Arbeit der stärksten Opposition im Landtag geben. \nPodiumsgäste sind Ulrich Siegmund (Vorsitzender der AfD-Fraktion im Landtag von Sachsen-Anhalt und deren Sprecher für Gesundheitspolitik)\, Oliver Kirchner (Vorsitzender der AfD-Fraktion im Landtag von Sachsen-Anhalt und deren Sprecher für Arbeit\, Soziales\, Integration und Behindertenpolitik )\, Daniel Roi (Abgeordneter der AfD-Fraktion im Landtag von Sachsen-Anhalt und deren Sprecher für Umweltpolitik sowie Zivil-\, Brand- und Katastrophenschutz). \nWir freuen uns auf den persönlichen Austausch am 18. November 2025 ab 18:30 Uhr. \n 
URL:https://afd-lsa.de/event/25_11_18_bd_brehna/
LOCATION:Kultur- und Sportzentrum Brehna\, Bahnhofstr. 30B\, Sandersdorf-Brehna\, 06796
ATTACH;FMTTYPE=image/png:https://afd-lsa.de/wp-content/uploads/2025/10/FB_-Dialog_Brehna-18.11.2025.png
END:VEVENT
BEGIN:VEVENT
DTSTART;TZID=Europe/Helsinki:20251121T100000
DTEND;TZID=Europe/Helsinki:20251121T120000
DTSTAMP:20260424T194218
CREATED:20251110T092953Z
LAST-MODIFIED:20251114T130105Z
UID:10000019-1763719200-1763726400@afd-lsa.de
SUMMARY:Infostand in Bernburg
DESCRIPTION:Infostand der AfD Salzlandkreis.
URL:https://afd-lsa.de/event/25_22_21_is_bernburg/
LOCATION:Karlsplatz Bernburg\, Karlsplatz\, Bernburg
ATTACH;FMTTYPE=image/png:https://afd-lsa.de/wp-content/uploads/2025/11/Infostand-Platzhalter.png
END:VEVENT
BEGIN:VEVENT
DTSTART;TZID=Europe/Helsinki:20251121T180000
DTEND;TZID=Europe/Helsinki:20251121T210000
DTSTAMP:20260424T194218
CREATED:20251114T131143Z
LAST-MODIFIED:20251114T132429Z
UID:10000026-1763748000-1763758800@afd-lsa.de
SUMMARY:Bürgerdialog mit Matthias Lieschke – Kandidat für die Landtagswahlen 2026
DESCRIPTION:Bei unserer letzten Fraktionsbustour war der Andrang in Prettin besonders groß. Deshalb führt der Kreisverband Wittenberg  gemeinsam mit Matthias Lieschke einen Bürgerdialog durch. \nDabei wird es um die Landtagswahlen und unsere Positionen dazu gehen. \nNatürlich hoffen wir auf viele Fragen aus allen Bereichen des Lebens und nehmen Anregungen gern entgegen.
URL:https://afd-lsa.de/event/25_11_21_bd_kv-wittenberg/
LOCATION:Gemeinschaftshaus Prettin\, Gustav-Fischer-Str. 29\, Prettin
ATTACH;FMTTYPE=image/jpeg:https://afd-lsa.de/wp-content/uploads/2025/11/prettin-212x300-1.jpg
END:VEVENT
BEGIN:VEVENT
DTSTART;TZID=Europe/Helsinki:20251122T150000
DTEND;TZID=Europe/Helsinki:20251122T180000
DTSTAMP:20260424T194218
CREATED:20251110T141639Z
LAST-MODIFIED:20251114T131206Z
UID:10000024-1763823600-1763834400@afd-lsa.de
SUMMARY:Bürgerdialog der AfD-Fraktion in Weferlingen
DESCRIPTION:Gibt es Dinge\, die Sie unsere Abgeordneten schon immer mal fragen wollten? \nAm Samstag\, dem 22. November 2025\, haben Sie dafür die Gelegenheit! \nKommen Sie vorbei und sprechen Sie direkt vor Ort mit uns: Haus der Generationen und Vereine\, Gutshof 4\, 39356 Weferlingen. Einlass ab 14:30 Uhr\, Beginn um 15:00 Uhr. \nAbgeordnete der AfD-Fraktion im Landtag von Sachsen-Anhalt sowie der AfD-Bundestagsfraktion werden mit Ihnen über das aktuelle politische Geschehen diskutieren und Einblicke in die parlamentarische Arbeit der stärksten Opposition im Landtag geben. \nPodiumsgäste sind Oliver Kirchner (Vorsitzender der AfD-Fraktion im Landtag von Sachsen-Anhalt)\, Christian Mertens (Abgeordneter der AfD-Fraktion im Landtag von Sachsen-Anhalt)\, Martin Reichardt (Vorsitzender der AfD Sachsen-Anhalt und AfD-Bundestagsabgeordneter) sowie Thomas Korell (AfD-Bundestagsabgeordneter). \nWir freuen uns auf den persönlichen Austausch am 22. November 2025 ab 15:00 Uhr.
URL:https://afd-lsa.de/event/25_11_22_bd_weferlingen/
LOCATION:Haus der Generationen und Vereine\, Gutshof 4\, Weferlingen\, 39356
ATTACH;FMTTYPE=image/png:https://afd-lsa.de/wp-content/uploads/2025/11/FB_-Dialog_Weferlingen-22.11.2025.png
END:VEVENT
BEGIN:VEVENT
DTSTART;TZID=Europe/Helsinki:20251127T090000
DTEND;TZID=Europe/Helsinki:20251127T120000
DTSTAMP:20260424T194218
CREATED:20251021T072649Z
LAST-MODIFIED:20251114T130043Z
UID:10000009-1764234000-1764244800@afd-lsa.de
SUMMARY:Infostand in Weißenfels
DESCRIPTION:Infostand der AfD Burgenlandkreis mit Lothar Waehler\, Juliane Waehler und Dirk Jonas.
URL:https://afd-lsa.de/event/infostand-in-weissenfels-2/
LOCATION:Weißenfels\, Marktplatz
ATTACH;FMTTYPE=image/png:https://afd-lsa.de/wp-content/uploads/2025/11/Infostand-Platzhalter.png
END:VEVENT
BEGIN:VEVENT
DTSTART;TZID=Europe/Helsinki:20251129T180000
DTEND;TZID=Europe/Helsinki:20251129T220000
DTSTAMP:20260424T194218
CREATED:20251126T142305Z
LAST-MODIFIED:20251126T142305Z
UID:10000027-1764439200-1764453600@afd-lsa.de
SUMMARY:Bürgerdialog der AfD-Fraktion im Bundestag in Dessau-Roßlau
DESCRIPTION:„Wir laden alle interessierten Bürger zum Bürgerdialog ein. Die ideale Möglichkeit für Sie\, mit unseren Abgeordneten direkt in Kontakt zu treten und mehr über den parlamentarischen Arbeitsalltag zu erfahren. Nutzen Sie diese Gelegenheit\, um Fragen zu stellen und mit uns über die Zukunft Deutschlands zu diskutieren. Wir freuen uns auf Ihr Erscheinen! \nEine Anmeldung ist nicht erforderlich.“
URL:https://afd-lsa.de/event/25_11_29_bd_btf_dessau_rosslau/
LOCATION:Gaststätte „Obstmustergarten“\, Südstraße 7\, Dessau-Roßlau\, 06849
ATTACH;FMTTYPE=image/jpeg:https://afd-lsa.de/wp-content/uploads/2025/11/WhatsApp-Bild-2025-11-26-um-15.16.53_6cabd419.jpg
END:VEVENT
BEGIN:VEVENT
DTSTART;TZID=Europe/Helsinki:20251130T140000
DTEND;TZID=Europe/Helsinki:20251130T140000
DTSTAMP:20260424T194218
CREATED:20251110T123010Z
LAST-MODIFIED:20251110T135708Z
UID:10000022-1764511200-1764511200@afd-lsa.de
SUMMARY:Adventsspaziergang mit anschließendem Bürgerdialog der AfD-Fraktion im Bundestag in Schönebeck
DESCRIPTION:Adventsspaziergang durch Schönebeck mit anschließendem Bürgerdialog. \nKommen Sie mit den Abgeordneten der AfD im Bundestag Claudia Weiss und Martin Reichardt ins Gespräch! \nEine Voranmeldung über die Emailadresse landesgruppe-sachsen-anhalt@afdbundestag.de ist zur Teilnahme notwendig! \nWir freuen uns auf Sie!
URL:https://afd-lsa.de/event/25_11_30_bd_bt_schoenebeck/
LOCATION:Schönebeck
ATTACH;FMTTYPE=image/jpeg:https://afd-lsa.de/wp-content/uploads/2025/11/Adventsspaziergang.jpeg
END:VEVENT
END:VCALENDAR