BEGIN:VCALENDAR
VERSION:2.0
PRODID:-//AfD Landesverband Sachsen-Anhalt - ECPv6.15.20//NONSGML v1.0//EN
CALSCALE:GREGORIAN
METHOD:PUBLISH
X-WR-CALNAME:AfD Landesverband Sachsen-Anhalt
X-ORIGINAL-URL:https://afd-lsa.de
X-WR-CALDESC:Veranstaltungen für AfD Landesverband Sachsen-Anhalt
REFRESH-INTERVAL;VALUE=DURATION:PT1H
X-Robots-Tag:noindex
X-PUBLISHED-TTL:PT1H
BEGIN:VTIMEZONE
TZID:Europe/Helsinki
BEGIN:DAYLIGHT
TZOFFSETFROM:+0200
TZOFFSETTO:+0300
TZNAME:EEST
DTSTART:20240331T010000
END:DAYLIGHT
BEGIN:STANDARD
TZOFFSETFROM:+0300
TZOFFSETTO:+0200
TZNAME:EET
DTSTART:20241027T010000
END:STANDARD
BEGIN:DAYLIGHT
TZOFFSETFROM:+0200
TZOFFSETTO:+0300
TZNAME:EEST
DTSTART:20250330T010000
END:DAYLIGHT
BEGIN:STANDARD
TZOFFSETFROM:+0300
TZOFFSETTO:+0200
TZNAME:EET
DTSTART:20251026T010000
END:STANDARD
BEGIN:DAYLIGHT
TZOFFSETFROM:+0200
TZOFFSETTO:+0300
TZNAME:EEST
DTSTART:20260329T010000
END:DAYLIGHT
BEGIN:STANDARD
TZOFFSETFROM:+0300
TZOFFSETTO:+0200
TZNAME:EET
DTSTART:20261025T010000
END:STANDARD
END:VTIMEZONE
BEGIN:VEVENT
DTSTART;TZID=Europe/Helsinki:20251204T090000
DTEND;TZID=Europe/Helsinki:20251204T130000
DTSTAMP:20260424T175634
CREATED:20251110T111150Z
LAST-MODIFIED:20251114T130025Z
UID:10000020-1764838800-1764853200@afd-lsa.de
SUMMARY:Infostand in Calbe
DESCRIPTION:Infostand der AfD Salzlandkreis.
URL:https://afd-lsa.de/event/25_12_04_is_calbe/
LOCATION:Marktplatz Calbe\, Marktplatz\, Calbe
ATTACH;FMTTYPE=image/png:https://afd-lsa.de/wp-content/uploads/2025/11/Infostand-Platzhalter.png
END:VEVENT
BEGIN:VEVENT
DTSTART;TZID=Europe/Helsinki:20251211T090000
DTEND;TZID=Europe/Helsinki:20251211T120000
DTSTAMP:20260424T175634
CREATED:20251110T111410Z
LAST-MODIFIED:20251114T125958Z
UID:10000021-1765443600-1765454400@afd-lsa.de
SUMMARY:Infostand in Biere
DESCRIPTION:Infostand der AfD Salzlandkreis.
URL:https://afd-lsa.de/event/25_12_11_is_biere/
LOCATION:Marktplatz Biere\, Marktplatz\, Biere
ATTACH;FMTTYPE=image/png:https://afd-lsa.de/wp-content/uploads/2025/11/Infostand-Platzhalter.png
END:VEVENT
END:VCALENDAR